Workbook

Sheet сравнение
A1: Ставка за ускорение оплаты, % годовых | B1: 0.23 | C1: устанавливает РТК (см. файл "Параметры для ТУО" в актуальной версии в разделе "Типовые условия оплаты" на странице ДФ) | D1: устанавливает РТК (см. файл "Параметры для ТУО" в актуальной версии в разделе "Типовые условия оплаты" на странице ДФ) | G1: Приложение №2.1
A2: Ставка за валютный риск, % годовых | B2: 0.16 | C2: устанавливает РТК (см. файл "Параметры для ТУО" в актуальной версии в разделе "Типовые условия оплаты" на странице ДФ) | G2: «УТВЕРЖДЕНО»
A3: Ставка альтернативного привлечения финансирования, % годовых | B3: 0.205 | C3: устанавливает РТК (см. файл "Параметры для ТУО" в актуальной версии в разделе "Типовые условия оплаты" на странице ДФ) | G3: Приказом ПАО «Ростелеком»
A4: Минимальная отсрочка расчета от даты подписания акта, дней (только для альтернативного предложения) | B4: 10 | C4: устанавливает РТК (см. файл "Параметры для ТУО" в актуальной версии в разделе "Типовые условия оплаты" на странице ДФ) | G4: от 26.06.2023 №01/01/3326/22
A5: Отсрочка расчета по ТУО от даты подписания акта для всех участников, дней (для основного предложения) | B5: 45 | C5: устанавливает РТК (см. Приложения 3, 3.1 и 3.2 в папке "Актуальная редакция" в разделе "Типовые условия оплаты" на странице ДФ)
A6: Максимальный % аванса (только для альтернативного предложения) | B6: 0.3 | C6: устанавливает РТК (см. файл "Параметры для ТУО" в актуальной версии в разделе "Типовые условия оплаты" на странице ДФ)
A7: Максимальный % промежуточного платежа (только для альтернативного предложения) | B7: 0.2 | C7: устанавливает РТК (см. файл "Параметры для ТУО" в актуальной версии в разделе "Типовые условия оплаты" на странице ДФ)
A8: Участник является субъектом МСП? | B8: да | C8: если закупка не только для субъектов МСП, участник закупки выбирает да/нет из списка
A9: Информационно: НМЦ лота № 1, руб. с учетом всех налогов | B9: =НЦ!C6 -> 31950880 | C9: устанавливает РТК в закупочной документации
B11: Основное предложение | D11: Альтернативное предложение
B13: Условия оплаты, предлагаемые Ростелекомом | D13: Условия оплаты, предлагаемые участником закупки | F13: комментарий | G13: проверки
A14: Цена (цена, указываемая в договоре) | B14: =НЦ!C7 -> 31950880 | C14: вводит участник/заполняетсяавтоматически | D14: =НЦ!D7 -> 31950880 | E14: вводит участник
A16: % аванса | B16: 0.2 | C16: вводит РТК (см. Приложения 3, 3.1 и 3.2 в папке "Актуальная редакция" в разделе "Типовые условия оплаты" на странице ДФ) | D16: 0 | E16: вводит участник | F16: =CONCATENATE("не более ",B6*100,"%") -> не более 30% | G16: =IF(D16>B6,"исправить!!!","ОК") -> ОК | I16: не более максимального % аванса
A17: Отсрочка уплаты аванса от даты формирования/подписания заказа, дней | B17: 20 | C17: вводит РТК (см. Приложения 3, 3.1 и 3.2 в папке "Актуальная редакция" в разделе "Типовые условия оплаты" на странице ДФ) | D17: 0 | E17: вводит участник
A18: Максимальный срок поставки с даты формирования/подписания заказа, дней (не меняется) | B18: 120 | C18: вводит РТК (см. Приложения 3, 3.1 и 3.2 в папке "Актуальная редакция" в разделе "Типовые условия оплаты" на странице ДФ) | D18: =B18 -> 120 | E18: формула | F18: не изменять
A20: % промежуточного платежа (если он предусмотрен) | B20: 0 | C20: вводит РТК (см. Приложения 3, 3.1 и 3.2 в папке "Актуальная редакция" в разделе "Типовые условия оплаты" на странице ДФ) | D20: 0 | E20: вводит участник | F20: =CONCATENATE("не более ",B7*100,"%") -> не более 20% | G20: =IF(D20>B7,"исправить!!!","ОК") -> ОК
A21: Отсрочка промежуточного платежа от даты формирования/подписания заказа, дней | B21: 0 | C21: вводит РТК (см. Приложения 3, 3.1 и 3.2 в папке "Актуальная редакция" в разделе "Типовые условия оплаты" на странице ДФ) | D21: 0 | E21: вводит участник | F21: =CONCATENATE("не менее ",B4," дней") -> не менее 10 дней
A23: % расчета | B23: =1-B16-B20 -> 0.8 | C23: формула | D23: =1-D16-D20 -> 1 | E23: формула
A24: Отсрочка расчета от даты подписания акта, дней* | B24: =IF(B8=скрытый!A3,B5,9) -> 9 | C24: вводит РТК (см. Приложения 3, 3.1 и 3.2 в папке "Актуальная редакция" в разделе "Типовые условия оплаты" на странице ДФ) | D24: 9 | E24: вводит участник | F24: =IF(B8=скрытый!A3,CONCATENATE("не менее ",B4," и не более ",B5," дней"),"указать 9 дней для субъектов МСП") -> указать 9 дней для субъектов МСП | G24: =IF(OR(AND(B8=скрытый!A3,D24<B4),AND(B8=скрытый!A3,D24>B5),AND(B8=скрытый!A2,D24<>9)),"исправить!!!","ОК") -> ОК | M24: =IF(AND(B17=#REF!,D17>20),"ОК","не ОК") -> #REF! | O24: =IF(AND(B8=#REF!,D24<>9),"исправить!!!","ОК") -> #REF! | P24: =OR((IF(D24<B4,"исправить!!!","ОК"),(IF(AND(B8=#REF!,D24<>9),"исправить!!!","ОК")))) -> #VALUE! | AA24: (ЕСЛИ(D21<B4;"исправить!!!";"ОК"))
A25: Дата фиксации курса пересчета у.е. в рубли (если применимо) | B25: дата формирования/подписания заказа | C25: вводит РТК (см. Приложения 3, 3.1 и 3.2 в папке "Актуальная редакция" в разделе "Типовые условия оплаты" на странице ДФ) | D25: дата формирования/подписания заказа | E25: вводит участник, НЕ ИЗМЕНЯТЬ, если в договоре нет валютной оговорки
A27: Приведенная цена с учетом конкретных условий оплаты (РПЦ) | B27: =B14+B34 -> 31950880 | C27: формула | D27: =IF(AND(B8="да",D24<>9),"отсрочка расчета (ячейка В24) должна быть 9 дней!",D14+D34) -> 31511971 | E27: формула
A29: Влияние альтернативных условий оплаты на ПЦ (увеличение ПЦ альтернативного предложения по сравнению с ПЦ основного предложения увеличения ПЦ-А по сравнению с ПЦ-О из-за улучшения условий оплаты для контрагента)
A30: Увеличение ПЦ-А за счет изменения % и/или изменения срока оплаты аванса | B30: =B14*B16*IF(B16>=$B16,$B$1,$B$3)*($B24+B18-B17)/365-$B$14*$B16*$B$1*($B18+$B24-$B17)/365 -> 0 | D30: =D14*D16*IF(D16>=$B16,$B$1,$B$3)*($B24+D18-D17)/365-$B$14*$B16*$B$1*($B18+$B24-$B17)/365 -> -438908.8 | E30: =D30/$B$27 -> -0.013736986
A31: Увеличение ПЦ-А за счет изменения % и/или изменения срока оплаты промежуточного платежа | B31: =B14*B20*$B$1*($B24+B18-B21)/365 -> 0 | D31: =D14*D20*$B$1*($B24+D18-D21)/365 -> 0 | E31: =D31/$B$27 -> 0
A32: Увеличение ПЦ-А за счет изменения % и/или изменения срока оплаты расчета | B32: =B14*B23*IF($B24>=B24,$B$1,$B$3)*($B24-B24)/365 -> 0 | D32: =D14*D23*IF($B24>=D24,$B$1,$B$3)*($B24-D24)/365 -> 0 | E32: =D32/$B$27 -> 0
A33: Увеличение ПЦ-А за счет увеличения валютного риска | B33: =IF(B25="на дату оплаты",B14*B16*$B$2*B17/365+B14*B20*$B$2*B21/365+B14*B23*$B$2*($B18+B24)/365,0) -> 0 | D33: =IF(D25="дата оплаты",D14*D16*$B$2*D17/365+D14*D20*$B$2*D21/365+D14*D23*$B$2*($B18+D24)/365,0) -> 0 | E33: =D33/$B$27 -> 0
A34: Совокупное увеличение ПЦ-А | B34: =SUM(B30:B33) -> 0 | D34: =SUM(D30:D33) -> -438908.8 | E34: =SUM(E30:E33) -> -0.013736986
A36: * - если закупка только у субъектов МСП, то срок расчета условно принимается равным 9 календарным дням, а не 7 рабочим
A38: ДАННЫЕ В ЯЧЕЙКАХ В1-В9, В14, В16, В18, В20, В21, В24 и D14, D16, D18, D20, D21, D24 ПРИВЕДЕНЫ В КАЧЕСТВЕ ПРИМЕРА
B98: =-B$14*D16*$B$1*(B18+B24-D17)/365+$B$14*B16*$B$1*(B18+B24-B17)/365 -> 438908.8 | C98: =-B14*(D16*(MAX(B17,D17)-D17)-B16*(MAX(B17,D17)-B17)+(D16-B16)*(D18+MIN(B24,D24)-MAX(B17,D17))+IF(B24>=D24,(1-B16-D20)*(B24-D24),(1-D16-D20)*(B24-D24))+D20*(B24+D18-D21))*B1/365 -> 438908.8

Sheet НЦ
B1: Наименование предприятия участника:
B2: Контактный телефон
B3: email:
C5: Основное предложение | D5: Альтернадивное предложение
B6: НМЦ лота №1, РУБ, с учетом всех налогов: | C6: =SUMPRODUCT(G12:G12,F12:F12)*C8 -> 31950880 | D6: =SUMPRODUCT(G12:G12,F12:F12)*D8 -> 31950880
B7: Сумма договора с учетом снижения, РУБ, с учетом всех налогов: | C7: =SUMPRODUCT(I12:I12,F12:F12)*C8 -> 31950880 | D7: =SUMPRODUCT(K12:K12,F12:F12)*D8 -> 31950880
C8: 1 | D8: 1
C9: заполнить ячейки с голубой заливкой
B10: Форма ТКП для заполнения участником закупки (пример) | H10: Предложение участника на типовых условиях оплаты, предлагаемых Ростелекомом | J10: Альтернативное предложение на условиях оплаты, предложенных участником
A11: № п.п. | B11: Наименование работ | E11: Единица измерения | F11: Объемы, шт. | G11: НМЦ работ, РУБ, с учетом всех налогов | H11: Процент скидки от НМЦ, % | I11: Цена работ, работ, с учетом всех налогов | J11: Процент скидки от НМЦ, % (альтернативное предложение) | K11: Цена работ, руб, с учетом всех налогов (альтернативное предложение)
A12: 1 | B12: выполнение работ по объекту «Устройство инженерно-технических систем обеспечения безопасности дорожного движения и дорожных сооружений. Модернизация системы мониторинга инженерных конструкций мостового перехода «Кировский» через реку Самару в г.о. Самара | E12: Усл. ед. | F12: 1 | G12: 31950880 | I12: =G12*(1-ABS(H12)/100) -> 31950880 | K12: =G12*(1-ABS(J12)/100) -> 31950880
H14: ТКП | I14: =SUMPRODUCT(I12:I12,F12:F12) -> 31950880
H15: НМЦ | I15: 8175191
I16: =ROUND(I14/I15,4) -> 3.9083

Sheet скрытый
A1: варианты для "закупка только для субъектов МСП"
A2: да
A3: нет
A5: варианты фиксации курса валюты к рублю для выбора
A6: дата формирования/подписания заказа
A7: дата оплаты
